BEGIN:VCALENDAR
VERSION:2.0
PRODID:-//JHA Western Regional Users Group - ECPv6.15.20//NONSGML v1.0//EN
CALSCALE:GREGORIAN
METHOD:PUBLISH
X-WR-CALNAME:JHA Western Regional Users Group
X-ORIGINAL-URL:https://jhawrug.com
X-WR-CALDESC:Events for JHA Western Regional Users Group
REFRESH-INTERVAL;VALUE=DURATION:PT1H
X-Robots-Tag:noindex
X-PUBLISHED-TTL:PT1H
BEGIN:VTIMEZONE
TZID:America/Los_Angeles
BEGIN:DAYLIGHT
TZOFFSETFROM:-0800
TZOFFSETTO:-0700
TZNAME:PDT
DTSTART:20250309T100000
END:DAYLIGHT
BEGIN:STANDARD
TZOFFSETFROM:-0700
TZOFFSETTO:-0800
TZNAME:PST
DTSTART:20251102T090000
END:STANDARD
BEGIN:DAYLIGHT
TZOFFSETFROM:-0800
TZOFFSETTO:-0700
TZNAME:PDT
DTSTART:20260308T100000
END:DAYLIGHT
BEGIN:STANDARD
TZOFFSETFROM:-0700
TZOFFSETTO:-0800
TZNAME:PST
DTSTART:20261101T090000
END:STANDARD
BEGIN:DAYLIGHT
TZOFFSETFROM:-0800
TZOFFSETTO:-0700
TZNAME:PDT
DTSTART:20270314T100000
END:DAYLIGHT
BEGIN:STANDARD
TZOFFSETFROM:-0700
TZOFFSETTO:-0800
TZNAME:PST
DTSTART:20271107T090000
END:STANDARD
END:VTIMEZONE
BEGIN:VEVENT
DTSTART;VALUE=DATE:20260415
DTEND;VALUE=DATE:20260418
DTSTAMP:20260423T101920
CREATED:20260317T171841Z
LAST-MODIFIED:20260317T171841Z
UID:1306-1776211200-1776470399@jhawrug.com
SUMMARY:SilverLake Western Regional User Group (WRUG) Meeting
DESCRIPTION:We are excited to invite you to join us at the annual WRUG Spring Meeting and Training. We have a full agenda and a training schedule that will hopefully benefit everyone’s needs. \n 
URL:https://jhawrug.com/event/silverlake-western-regional-user-group-wrug-meeting/
LOCATION:Northern Quest Resort & Casino\, 100 N Hayford Rd\, Airway Heights\, WA\, 99001\, United States
ORGANIZER;CN="Maria Morales":MAILTO:Maria.Morales@fmb.com
END:VEVENT
END:VCALENDAR